Package: scMET Version: 1.9.0 Command: rm -rf scMET.buildbin-libdir && mkdir scMET.buildbin-libdir && /Users/biocbuild/BBS/utils/build-universal.sh scMET_1.9.0.tar.gz /Library/Frameworks/R.framework/Resources/bin/R scMET.buildbin-libdir StartedAt: 2025-02-04 22:31:39 -0500 (Tue, 04 Feb 2025) EndedAt: 2025-02-04 22:32:16 -0500 (Tue, 04 Feb 2025) EllapsedTime: 36.6 seconds RetCode: 0 Status: OK PackageFile: scMET_1.9.0.tgz PackageFileSize: 4.024 MiB