Package: scMET Version: 1.9.0 Command: /Library/Frameworks/R.framework/Resources/bin/R CMD build --keep-empty-dirs --no-resave-data scMET StartedAt: 2025-02-04 17:32:31 -0500 (Tue, 04 Feb 2025) EndedAt: 2025-02-04 17:33:38 -0500 (Tue, 04 Feb 2025) EllapsedTime: 66.8 seconds RetCode: 0 Status: OK PackageFile: scMET_1.9.0.tar.gz PackageFileSize: 3.283 MiB