Package: scMET Version: 1.9.0 Command: /Library/Frameworks/R.framework/Resources/bin/R CMD check --install=check:scMET.install-out.txt --library=/Library/Frameworks/R.framework/Resources/library --no-vignettes --timings scMET_1.9.0.tar.gz StartedAt: 2025-02-04 21:14:54 -0500 (Tue, 04 Feb 2025) EndedAt: 2025-02-04 21:16:11 -0500 (Tue, 04 Feb 2025) EllapsedTime: 76.8 seconds RetCode: 0 Status: OK CheckDir: scMET.Rcheck Warnings: 0