Package: scMET Version: 1.9.0 Command: /home/biocbuild/R/R/bin/R CMD check --install=check:scMET.install-out.txt --library=/home/biocbuild/R/R/site-library --no-vignettes --timings scMET_1.9.0.tar.gz StartedAt: 2025-01-24 12:21:09 -0000 (Fri, 24 Jan 2025) EndedAt: 2025-01-24 12:26:52 -0000 (Fri, 24 Jan 2025) EllapsedTime: 343.2 seconds RetCode: 0 Status: WARNINGS CheckDir: scMET.Rcheck Warnings: 1