Package: scMET Version: 1.9.0 Command: /home/biocbuild/R/R/bin/R CMD INSTALL scMET StartedAt: 2025-01-29 20:09:17 -0000 (Wed, 29 Jan 2025) EndedAt: 2025-01-29 20:12:12 -0000 (Wed, 29 Jan 2025) EllapsedTime: 174.7 seconds RetCode: 1 Status: ERROR