Package: scMET Version: 1.9.0 Command: rm -rf scMET.buildbin-libdir && mkdir scMET.buildbin-libdir && /Users/biocbuild/BBS/utils/build-universal.sh scMET_1.9.0.tar.gz /Library/Frameworks/R.framework/Resources/bin/R scMET.buildbin-libdir StartedAt: 2025-02-05 01:00:58 -0500 (Wed, 05 Feb 2025) EndedAt: 2025-02-05 01:03:14 -0500 (Wed, 05 Feb 2025) EllapsedTime: 136.1 seconds RetCode: 0 Status: OK PackageFile: scMET_1.9.0.tgz PackageFileSize: 4.158 MiB