Package: scMET Version: 1.9.0 Command: /Library/Frameworks/R.framework/Resources/bin/R CMD build --keep-empty-dirs --no-resave-data scMET StartedAt: 2025-02-04 18:12:40 -0500 (Tue, 04 Feb 2025) EndedAt: 2025-02-04 18:16:35 -0500 (Tue, 04 Feb 2025) EllapsedTime: 234.6 seconds RetCode: 0 Status: OK PackageFile: scMET_1.9.0.tar.gz PackageFileSize: 3.282 MiB