Package: scMET Version: 1.9.0 Command: /home/biocbuild/bbs-3.21-bioc/R/bin/R CMD build --keep-empty-dirs --no-resave-data scMET StartedAt: 2025-02-04 19:06:00 -0500 (Tue, 04 Feb 2025) EndedAt: 2025-02-04 19:09:46 -0500 (Tue, 04 Feb 2025) EllapsedTime: 225.2 seconds RetCode: 0 Status: OK PackageFile: scMET_1.9.0.tar.gz PackageFileSize: 3.282 MiB