Package: scMET Version: 1.9.0 Command: /home/biocbuild/bbs-3.21-bioc/R/bin/R CMD check --install=check:scMET.install-out.txt --library=/home/biocbuild/bbs-3.21-bioc/R/site-library --timings scMET_1.9.0.tar.gz StartedAt: 2025-02-05 02:29:32 -0500 (Wed, 05 Feb 2025) EndedAt: 2025-02-05 02:34:18 -0500 (Wed, 05 Feb 2025) EllapsedTime: 286.3 seconds RetCode: 0 Status: OK CheckDir: scMET.Rcheck Warnings: 0