Package: scMET Version: 1.9.0 Command: rm -rf scMET.buildbin-libdir && mkdir scMET.buildbin-libdir && E:\biocbuild\bbs-3.21-bioc\R\bin\R.exe CMD INSTALL --build --library=scMET.buildbin-libdir scMET_1.9.0.tar.gz StartedAt: 2025-02-05 08:51:38 -0500 (Wed, 05 Feb 2025) EndedAt: 2025-02-05 08:58:17 -0500 (Wed, 05 Feb 2025) EllapsedTime: 399.5 seconds RetCode: 0 Status: OK PackageFile: scMET_1.9.0.zip PackageFileSize: 3.434 MiB