Package: scMET Version: 1.9.0 Command: chmod a+r scMET -R && E:\biocbuild\bbs-3.21-bioc\R\bin\R.exe CMD build --keep-empty-dirs --no-resave-data scMET StartedAt: 2025-02-04 21:30:40 -0500 (Tue, 04 Feb 2025) EndedAt: 2025-02-04 21:38:10 -0500 (Tue, 04 Feb 2025) EllapsedTime: 449.5 seconds RetCode: 0 Status: OK PackageFile: scMET_1.9.0.tar.gz PackageFileSize: 2.415 MiB