Package: scMET Version: 1.9.0 Command: E:\biocbuild\bbs-3.21-bioc\R\bin\R.exe CMD check --no-multiarch --install=check:scMET.install-out.txt --library=E:\biocbuild\bbs-3.21-bioc\R\library --no-vignettes --timings scMET_1.9.0.tar.gz StartedAt: 2025-02-05 05:34:42 -0500 (Wed, 05 Feb 2025) EndedAt: 2025-02-05 05:39:51 -0500 (Wed, 05 Feb 2025) EllapsedTime: 309.4 seconds RetCode: 0 Status: OK CheckDir: scMET.Rcheck Warnings: 0