Package: scMET Version: 1.9.0 Command: E:\biocbuild\bbs-3.21-bioc\R\bin\R.exe CMD INSTALL scMET StartedAt: 2025-02-04 16:00:29 -0500 (Tue, 04 Feb 2025) EndedAt: 2025-02-04 16:07:11 -0500 (Tue, 04 Feb 2025) EllapsedTime: 402.1 seconds RetCode: 0 Status: OK