Package: scMerge Version: 1.23.0 Command: rm -rf scMerge.buildbin-libdir && mkdir scMerge.buildbin-libdir && /Users/biocbuild/BBS/utils/build-universal.sh scMerge_1.23.0.tar.gz /Library/Frameworks/R.framework/Resources/bin/R scMerge.buildbin-libdir StartedAt: 2025-02-09 22:29:52 -0500 (Sun, 09 Feb 2025) EndedAt: 2025-02-09 22:30:10 -0500 (Sun, 09 Feb 2025) EllapsedTime: 17.4 seconds RetCode: 0 Status: OK PackageFile: scMerge_1.23.0.tgz PackageFileSize: 3.55 MiB