Package: scMerge Version: 1.23.0 Command: /Library/Frameworks/R.framework/Resources/bin/R CMD check --install=check:scMerge.install-out.txt --library=/Library/Frameworks/R.framework/Resources/library --no-vignettes --timings scMerge_1.23.0.tar.gz StartedAt: 2025-02-09 21:12:57 -0500 (Sun, 09 Feb 2025) EndedAt: 2025-02-09 21:15:52 -0500 (Sun, 09 Feb 2025) EllapsedTime: 175.0 seconds RetCode: 0 Status: OK CheckDir: scMerge.Rcheck Warnings: 0