Package: scMerge Version: 1.23.0 Command: /home/biocbuild/R/R/bin/R CMD build --keep-empty-dirs --no-resave-data scMerge StartedAt: 2025-01-29 02:07:12 -0000 (Wed, 29 Jan 2025) EndedAt: 2025-01-29 02:07:32 -0000 (Wed, 29 Jan 2025) EllapsedTime: 20.0 seconds RetCode: 1 Status: ERROR PackageFile: None PackageFileSize: NA