Package: scMerge Version: 1.23.0 Command: /Library/Frameworks/R.framework/Resources/bin/R CMD INSTALL scMerge StartedAt: 2025-02-09 15:41:41 -0500 (Sun, 09 Feb 2025) EndedAt: 2025-02-09 15:42:43 -0500 (Sun, 09 Feb 2025) EllapsedTime: 61.5 seconds RetCode: 0 Status: OK