Package: scMerge Version: 1.23.0 Command: /home/biocbuild/bbs-3.21-bioc/R/bin/R CMD INSTALL scMerge StartedAt: 2025-02-04 15:52:02 -0500 (Tue, 04 Feb 2025) EndedAt: 2025-02-04 15:52:48 -0500 (Tue, 04 Feb 2025) EllapsedTime: 45.1 seconds RetCode: 0 Status: OK