Package: scMerge Version: 1.23.0 Command: rm -rf scMerge.buildbin-libdir && mkdir scMerge.buildbin-libdir && E:\biocbuild\bbs-3.21-bioc\R\bin\R.exe CMD INSTALL --build --library=scMerge.buildbin-libdir scMerge_1.23.0.tar.gz StartedAt: 2025-02-13 08:50:13 -0500 (Thu, 13 Feb 2025) EndedAt: 2025-02-13 08:51:17 -0500 (Thu, 13 Feb 2025) EllapsedTime: 63.9 seconds RetCode: 0 Status: OK PackageFile: scMerge_1.23.0.zip PackageFileSize: 2.671 MiB