Package: scMerge Version: 1.23.0 Command: chmod a+r scMerge -R && E:\biocbuild\bbs-3.21-bioc\R\bin\R.exe CMD build --keep-empty-dirs --no-resave-data scMerge StartedAt: 2025-02-12 21:34:40 -0500 (Wed, 12 Feb 2025) EndedAt: 2025-02-12 21:38:17 -0500 (Wed, 12 Feb 2025) EllapsedTime: 216.3 seconds RetCode: 0 Status: OK PackageFile: scMerge_1.23.0.tar.gz PackageFileSize: 2.561 MiB