Package: scMerge Version: 1.23.0 Command: E:\biocbuild\bbs-3.21-bioc\R\bin\R.exe CMD INSTALL scMerge StartedAt: 2025-02-12 16:52:03 -0500 (Wed, 12 Feb 2025) EndedAt: 2025-02-12 16:53:04 -0500 (Wed, 12 Feb 2025) EllapsedTime: 61.4 seconds RetCode: 0 Status: OK