Package: scPipe Version: 2.7.1 Command: /Library/Frameworks/R.framework/Resources/bin/R CMD check --install=check:scPipe.install-out.txt --library=/Library/Frameworks/R.framework/Resources/library --no-vignettes --timings scPipe_2.7.1.tar.gz StartedAt: 2025-02-09 21:14:56 -0500 (Sun, 09 Feb 2025) EndedAt: 2025-02-09 21:19:16 -0500 (Sun, 09 Feb 2025) EllapsedTime: 260.0 seconds RetCode: 0 Status: OK CheckDir: scPipe.Rcheck Warnings: 0