Package: scPipe Version: 2.7.1 Command: /Library/Frameworks/R.framework/Resources/bin/R CMD build --keep-empty-dirs --no-resave-data scPipe StartedAt: 2025-02-09 18:22:11 -0500 (Sun, 09 Feb 2025) EndedAt: 2025-02-09 18:38:06 -0500 (Sun, 09 Feb 2025) EllapsedTime: 955.5 seconds RetCode: 0 Status: OK PackageFile: scPipe_2.7.1.tar.gz PackageFileSize: 12.67 MiB