Package: scPipe Version: 2.7.1 Command: /Library/Frameworks/R.framework/Resources/bin/R CMD INSTALL scPipe StartedAt: 2025-02-12 15:27:50 -0500 (Wed, 12 Feb 2025) EndedAt: 2025-02-12 15:30:39 -0500 (Wed, 12 Feb 2025) EllapsedTime: 168.8 seconds RetCode: 0 Status: OK