Package: scPipe Version: 2.7.1 Command: /home/biocbuild/bbs-3.21-bioc/R/bin/R CMD check --install=check:scPipe.install-out.txt --library=/home/biocbuild/bbs-3.21-bioc/R/site-library --timings scPipe_2.7.1.tar.gz StartedAt: 2025-02-10 02:25:35 -0500 (Mon, 10 Feb 2025) EndedAt: 2025-02-10 02:34:36 -0500 (Mon, 10 Feb 2025) EllapsedTime: 540.6 seconds RetCode: 0 Status: OK CheckDir: scPipe.Rcheck Warnings: 0