Package: scPipe Version: 2.7.1 Command: rm -rf scPipe.buildbin-libdir && mkdir scPipe.buildbin-libdir && E:\biocbuild\bbs-3.21-bioc\R\bin\R.exe CMD INSTALL --build --library=scPipe.buildbin-libdir scPipe_2.7.1.tar.gz StartedAt: 2025-02-10 08:40:07 -0500 (Mon, 10 Feb 2025) EndedAt: 2025-02-10 08:43:30 -0500 (Mon, 10 Feb 2025) EllapsedTime: 203.6 seconds RetCode: 0 Status: OK PackageFile: scPipe_2.7.1.zip PackageFileSize: 18.03 MiB