Package: scPipe Version: 2.7.1 Command: E:\biocbuild\bbs-3.21-bioc\R\bin\R.exe CMD check --no-multiarch --install=check:scPipe.install-out.txt --library=E:\biocbuild\bbs-3.21-bioc\R\library --no-vignettes --timings scPipe_2.7.1.tar.gz StartedAt: 2025-02-10 05:13:33 -0500 (Mon, 10 Feb 2025) EndedAt: 2025-02-10 05:21:24 -0500 (Mon, 10 Feb 2025) EllapsedTime: 471.1 seconds RetCode: 0 Status: OK CheckDir: scPipe.Rcheck Warnings: 0