Package: scPipe Version: 2.7.1 Command: E:\biocbuild\bbs-3.21-bioc\R\bin\R.exe CMD INSTALL scPipe StartedAt: 2025-02-03 17:03:09 -0500 (Mon, 03 Feb 2025) EndedAt: 2025-02-03 17:06:39 -0500 (Mon, 03 Feb 2025) EllapsedTime: 210.0 seconds RetCode: 0 Status: OK