Package: scQTLtools Version: 0.99.11 Command: /Library/Frameworks/R.framework/Resources/bin/R CMD check --install=check:scQTLtools.install-out.txt --library=/Library/Frameworks/R.framework/Resources/library --no-vignettes --timings scQTLtools_0.99.11.tar.gz StartedAt: 2025-02-04 21:16:58 -0500 (Tue, 04 Feb 2025) EndedAt: 2025-02-04 21:20:29 -0500 (Tue, 04 Feb 2025) EllapsedTime: 210.4 seconds RetCode: 0 Status: OK CheckDir: scQTLtools.Rcheck Warnings: 0