Package: scQTLtools Version: 0.99.11 Command: /Library/Frameworks/R.framework/Resources/bin/R CMD INSTALL scQTLtools StartedAt: 2025-02-04 15:21:59 -0500 (Tue, 04 Feb 2025) EndedAt: 2025-02-04 15:22:15 -0500 (Tue, 04 Feb 2025) EllapsedTime: 15.9 seconds RetCode: 0 Status: OK