Package: scQTLtools Version: 0.99.11 Command: /Library/Frameworks/R.framework/Resources/bin/R CMD build --keep-empty-dirs --no-resave-data scQTLtools StartedAt: 2025-02-04 18:14:04 -0500 (Tue, 04 Feb 2025) EndedAt: 2025-02-04 18:15:59 -0500 (Tue, 04 Feb 2025) EllapsedTime: 115.3 seconds RetCode: 0 Status: OK PackageFile: scQTLtools_0.99.11.tar.gz PackageFileSize: 2.285 MiB