Package: scQTLtools Version: 0.99.11 Command: /home/biocbuild/bbs-3.21-bioc/R/bin/R CMD INSTALL scQTLtools StartedAt: 2025-02-04 15:53:49 -0500 (Tue, 04 Feb 2025) EndedAt: 2025-02-04 15:54:30 -0500 (Tue, 04 Feb 2025) EllapsedTime: 41.7 seconds RetCode: 0 Status: OK