Package: scQTLtools Version: 0.99.11 Command: rm -rf scQTLtools.buildbin-libdir && mkdir scQTLtools.buildbin-libdir && E:\biocbuild\bbs-3.21-bioc\R\bin\R.exe CMD INSTALL --build --library=scQTLtools.buildbin-libdir scQTLtools_0.99.11.tar.gz StartedAt: 2025-02-05 08:52:15 -0500 (Wed, 05 Feb 2025) EndedAt: 2025-02-05 08:53:45 -0500 (Wed, 05 Feb 2025) EllapsedTime: 89.3 seconds RetCode: 0 Status: OK PackageFile: scQTLtools_0.99.11.zip PackageFileSize: 1.938 MiB