Package: scQTLtools Version: 0.99.11 Command: chmod a+r scQTLtools -R && E:\biocbuild\bbs-3.21-bioc\R\bin\R.exe CMD build --keep-empty-dirs --no-resave-data scQTLtools StartedAt: 2025-02-04 21:33:15 -0500 (Tue, 04 Feb 2025) EndedAt: 2025-02-04 21:35:34 -0500 (Tue, 04 Feb 2025) EllapsedTime: 139.2 seconds RetCode: 0 Status: OK PackageFile: scQTLtools_0.99.11.tar.gz PackageFileSize: 1.91 MiB