Package: scQTLtools Version: 0.99.11 Command: E:\biocbuild\bbs-3.21-bioc\R\bin\R.exe CMD INSTALL scQTLtools StartedAt: 2025-02-04 16:34:09 -0500 (Tue, 04 Feb 2025) EndedAt: 2025-02-04 16:35:25 -0500 (Tue, 04 Feb 2025) EllapsedTime: 75.5 seconds RetCode: 0 Status: OK