Package: scRNAseqApp Version: 1.7.9 Command: rm -rf scRNAseqApp.buildbin-libdir && mkdir scRNAseqApp.buildbin-libdir && /Users/biocbuild/BBS/utils/build-universal.sh scRNAseqApp_1.7.9.tar.gz /Library/Frameworks/R.framework/Resources/bin/R scRNAseqApp.buildbin-libdir StartedAt: 2025-02-09 22:30:15 -0500 (Sun, 09 Feb 2025) EndedAt: 2025-02-09 22:30:41 -0500 (Sun, 09 Feb 2025) EllapsedTime: 26.5 seconds RetCode: 0 Status: OK PackageFile: scRNAseqApp_1.7.9.tgz PackageFileSize: 3.539 MiB