Package: scRNAseqApp Version: 1.7.9 Command: /Library/Frameworks/R.framework/Resources/bin/R CMD build --keep-empty-dirs --no-resave-data scRNAseqApp StartedAt: 2025-02-09 17:34:06 -0500 (Sun, 09 Feb 2025) EndedAt: 2025-02-09 17:34:43 -0500 (Sun, 09 Feb 2025) EllapsedTime: 37.4 seconds RetCode: 0 Status: OK PackageFile: scRNAseqApp_1.7.9.tar.gz PackageFileSize: 2.195 MiB