Package: scRNAseqApp Version: 1.7.9 Command: /Library/Frameworks/R.framework/Resources/bin/R CMD check --install=check:scRNAseqApp.install-out.txt --library=/Library/Frameworks/R.framework/Resources/library --no-vignettes --timings scRNAseqApp_1.7.9.tar.gz StartedAt: 2025-02-09 21:16:02 -0500 (Sun, 09 Feb 2025) EndedAt: 2025-02-09 21:18:30 -0500 (Sun, 09 Feb 2025) EllapsedTime: 148.7 seconds RetCode: 0 Status: OK CheckDir: scRNAseqApp.Rcheck Warnings: 0