Package: scRNAseqApp Version: 1.7.9 Command: /Library/Frameworks/R.framework/Resources/bin/R CMD INSTALL scRNAseqApp StartedAt: 2025-02-09 15:20:52 -0500 (Sun, 09 Feb 2025) EndedAt: 2025-02-09 15:21:16 -0500 (Sun, 09 Feb 2025) EllapsedTime: 24.6 seconds RetCode: 0 Status: OK