Package: scRNAseqApp Version: 1.7.9 Command: /home/biocbuild/bbs-3.21-bioc/R/bin/R CMD check --install=check:scRNAseqApp.install-out.txt --library=/home/biocbuild/bbs-3.21-bioc/R/site-library --timings scRNAseqApp_1.7.9.tar.gz StartedAt: 2025-02-10 02:28:07 -0500 (Mon, 10 Feb 2025) EndedAt: 2025-02-10 02:35:20 -0500 (Mon, 10 Feb 2025) EllapsedTime: 433.5 seconds RetCode: 0 Status: OK CheckDir: scRNAseqApp.Rcheck Warnings: 0