Package: scRNAseqApp Version: 1.7.9 Command: /home/biocbuild/bbs-3.21-bioc/R/bin/R CMD INSTALL scRNAseqApp StartedAt: 2025-02-09 15:26:03 -0500 (Sun, 09 Feb 2025) EndedAt: 2025-02-09 15:27:05 -0500 (Sun, 09 Feb 2025) EllapsedTime: 62.0 seconds RetCode: 0 Status: OK