Package: scRNAseqApp Version: 1.7.9 Command: rm -rf scRNAseqApp.buildbin-libdir && mkdir scRNAseqApp.buildbin-libdir && E:\biocbuild\bbs-3.21-bioc\R\bin\R.exe CMD INSTALL --build --library=scRNAseqApp.buildbin-libdir scRNAseqApp_1.7.9.tar.gz StartedAt: 2025-02-10 08:40:33 -0500 (Mon, 10 Feb 2025) EndedAt: 2025-02-10 08:43:21 -0500 (Mon, 10 Feb 2025) EllapsedTime: 168.3 seconds RetCode: 0 Status: OK PackageFile: scRNAseqApp_1.7.9.zip PackageFileSize: 3.539 MiB