Package: scRNAseqApp Version: 1.7.9 Command: chmod a+r scRNAseqApp -R && E:\biocbuild\bbs-3.21-bioc\R\bin\R.exe CMD build --keep-empty-dirs --no-resave-data scRNAseqApp StartedAt: 2025-02-09 21:31:49 -0500 (Sun, 09 Feb 2025) EndedAt: 2025-02-09 21:33:57 -0500 (Sun, 09 Feb 2025) EllapsedTime: 128.0 seconds RetCode: 0 Status: OK PackageFile: scRNAseqApp_1.7.9.tar.gz PackageFileSize: 2.195 MiB