Package: scRNAseqApp Version: 1.7.9 Command: E:\biocbuild\bbs-3.21-bioc\R\bin\R.exe CMD check --no-multiarch --install=check:scRNAseqApp.install-out.txt --library=E:\biocbuild\bbs-3.21-bioc\R\library --no-vignettes --timings scRNAseqApp_1.7.9.tar.gz StartedAt: 2025-02-10 05:15:31 -0500 (Mon, 10 Feb 2025) EndedAt: 2025-02-10 05:23:16 -0500 (Mon, 10 Feb 2025) EllapsedTime: 464.5 seconds RetCode: 0 Status: OK CheckDir: scRNAseqApp.Rcheck Warnings: 0