Package: scRNAseqApp Version: 1.7.9 Command: E:\biocbuild\bbs-3.21-bioc\R\bin\R.exe CMD INSTALL scRNAseqApp StartedAt: 2025-02-09 16:24:10 -0500 (Sun, 09 Feb 2025) EndedAt: 2025-02-09 16:26:01 -0500 (Sun, 09 Feb 2025) EllapsedTime: 110.4 seconds RetCode: 0 Status: OK