Package: scRepertoire Version: 2.3.2 Command: /Library/Frameworks/R.framework/Resources/bin/R CMD check --install=check:scRepertoire.install-out.txt --library=/Library/Frameworks/R.framework/Resources/library --no-vignettes --timings scRepertoire_2.3.2.tar.gz StartedAt: 2025-02-12 23:14:20 -0500 (Wed, 12 Feb 2025) EndedAt: 2025-02-12 23:24:14 -0500 (Wed, 12 Feb 2025) EllapsedTime: 594.2 seconds RetCode: 0 Status: OK CheckDir: scRepertoire.Rcheck Warnings: 0