Package: scRepertoire Version: 2.3.2 Command: /home/biocbuild/bbs-3.21-bioc/R/bin/R CMD build --keep-empty-dirs --no-resave-data scRepertoire StartedAt: 2025-02-09 19:11:02 -0500 (Sun, 09 Feb 2025) EndedAt: 2025-02-09 19:14:46 -0500 (Sun, 09 Feb 2025) EllapsedTime: 224.2 seconds RetCode: 0 Status: OK PackageFile: scRepertoire_2.3.2.tar.gz PackageFileSize: 21.56 MiB