Package: scShapes Version: 1.13.0 Command: rm -rf scShapes.buildbin-libdir && mkdir scShapes.buildbin-libdir && /Users/biocbuild/BBS/utils/build-universal.sh scShapes_1.13.0.tar.gz /Library/Frameworks/R.framework/Resources/bin/R scShapes.buildbin-libdir StartedAt: 2025-02-09 22:30:16 -0500 (Sun, 09 Feb 2025) EndedAt: 2025-02-09 22:30:20 -0500 (Sun, 09 Feb 2025) EllapsedTime: 4.1 seconds RetCode: 0 Status: OK PackageFile: scShapes_1.13.0.tgz PackageFileSize: 72.42 KiB