Package: scShapes Version: 1.13.0 Command: /Library/Frameworks/R.framework/Resources/bin/R CMD build --keep-empty-dirs --no-resave-data scShapes StartedAt: 2025-02-09 17:34:21 -0500 (Sun, 09 Feb 2025) EndedAt: 2025-02-09 17:35:05 -0500 (Sun, 09 Feb 2025) EllapsedTime: 43.5 seconds RetCode: 0 Status: OK PackageFile: scShapes_1.13.0.tar.gz PackageFileSize: 29.82 KiB