Package: scShapes Version: 1.13.0 Command: /Library/Frameworks/R.framework/Resources/bin/R CMD INSTALL scShapes StartedAt: 2025-02-12 15:09:13 -0500 (Wed, 12 Feb 2025) EndedAt: 2025-02-12 15:09:16 -0500 (Wed, 12 Feb 2025) EllapsedTime: 3.3 seconds RetCode: 0 Status: OK